BEGIN:VCALENDAR
VERSION:2.0
PRODID:-//Unity Of Faith Fellowship International Ministries - ECPv4.4.5//NONSGML v1.0//EN
CALSCALE:GREGORIAN
METHOD:PUBLISH
X-WR-CALNAME:Unity Of Faith Fellowship International Ministries
X-ORIGINAL-URL:http://unity-of-faith.org
X-WR-CALDESC:Events for Unity Of Faith Fellowship International Ministries
BEGIN:VEVENT
DTSTART;TZID=America/New_York:20241225T183000
DTEND;TZID=America/New_York:20241225T200000
DTSTAMP:20260423T043517
CREATED:20241201T165420Z
LAST-MODIFIED:20241201T165420Z
UID:5528-1735151400-1735156800@unity-of-faith.org
SUMMARY:BIBLE STUDY
DESCRIPTION:
URL:http://unity-of-faith.org/event/bible-study-340/
CATEGORIES:bible study
END:VEVENT
END:VCALENDAR