BEGIN:VCALENDAR
VERSION:2.0
PRODID:-//Unity Of Faith Fellowship International Ministries - ECPv4.4.5//NONSGML v1.0//EN
CALSCALE:GREGORIAN
METHOD:PUBLISH
X-WR-CALNAME:Unity Of Faith Fellowship International Ministries
X-ORIGINAL-URL:http://unity-of-faith.org
X-WR-CALDESC:Events for Unity Of Faith Fellowship International Ministries
BEGIN:VEVENT
DTSTART;TZID=America/New_York:20250129T183000
DTEND;TZID=America/New_York:20250129T200000
DTSTAMP:20260422T162537
CREATED:20241229T163054Z
LAST-MODIFIED:20241229T163054Z
UID:5550-1738175400-1738180800@unity-of-faith.org
SUMMARY:BIBLE STUDY
DESCRIPTION:
URL:http://unity-of-faith.org/event/bible-study-344/
CATEGORIES:bible study
END:VEVENT
END:VCALENDAR