BEGIN:VCALENDAR
VERSION:2.0
PRODID:-//Unity Of Faith Fellowship International Ministries - ECPv4.4.5//NONSGML v1.0//EN
CALSCALE:GREGORIAN
METHOD:PUBLISH
X-WR-CALNAME:Unity Of Faith Fellowship International Ministries
X-ORIGINAL-URL:http://unity-of-faith.org
X-WR-CALDESC:Events for Unity Of Faith Fellowship International Ministries
BEGIN:VEVENT
DTSTART;TZID=America/New_York:20190123T183000
DTEND;TZID=America/New_York:20190123T200000
DTSTAMP:20260422T011959
CREATED:20181229T212536Z
LAST-MODIFIED:20181229T212536Z
UID:1699-1548268200-1548273600@unity-of-faith.org
SUMMARY:BIBLE STUDY
DESCRIPTION:
URL:http://unity-of-faith.org/event/bible-study-51/
LOCATION: 298 Cedar Fork Rd\, Richmond\, VA\, United States
CATEGORIES:bible study
ATTACH;FMTTYPE=image/jpeg:http://unity-of-faith.org/wp-content/uploads/2016/09/bible2.jpg
END:VEVENT
END:VCALENDAR