BEGIN:VCALENDAR
VERSION:2.0
PRODID:-//Unity Of Faith Fellowship International Ministries - ECPv4.4.5//NONSGML v1.0//EN
CALSCALE:GREGORIAN
METHOD:PUBLISH
X-WR-CALNAME:Unity Of Faith Fellowship International Ministries
X-ORIGINAL-URL:http://unity-of-faith.org
X-WR-CALDESC:Events for Unity Of Faith Fellowship International Ministries
BEGIN:VEVENT
DTSTART;TZID=America/New_York:20241222T093000
DTEND;TZID=America/New_York:20241222T113000
DTSTAMP:20260423T084547
CREATED:20241201T164023Z
LAST-MODIFIED:20241201T164023Z
UID:5518-1734859800-1734867000@unity-of-faith.org
SUMMARY:CHURCH SERVICE – FACEBOOK LIVE
DESCRIPTION:
URL:http://unity-of-faith.org/event/church-service-facebook-live-241/
CATEGORIES:chruch service
END:VEVENT
END:VCALENDAR