BEGIN:VCALENDAR
VERSION:2.0
PRODID:-//Unity Of Faith Fellowship International Ministries - ECPv4.4.5//NONSGML v1.0//EN
CALSCALE:GREGORIAN
METHOD:PUBLISH
X-WR-CALNAME:Unity Of Faith Fellowship International Ministries
X-ORIGINAL-URL:http://unity-of-faith.org
X-WR-CALDESC:Events for Unity Of Faith Fellowship International Ministries
BEGIN:VEVENT
DTSTART;TZID=America/New_York:20190104T190000
DTEND;TZID=America/New_York:20190104T200000
DTSTAMP:20260420T112155
CREATED:20181229T180247Z
LAST-MODIFIED:20181229T180247Z
UID:1673-1546628400-1546632000@unity-of-faith.org
SUMMARY:HYPED 4 CHRIST – YOUTH BIBLE STUDY
DESCRIPTION:
URL:http://unity-of-faith.org/event/hyped-4-christ-youth-bible-study-22/
LOCATION: 298 Cedar Fork Rd\, Richmond\, VA\, United States
CATEGORIES:youth bible study
ATTACH;FMTTYPE=image/jpeg:http://unity-of-faith.org/wp-content/uploads/2018/09/youth-bible.jpg
END:VEVENT
END:VCALENDAR