BEGIN:VCALENDAR
VERSION:2.0
PRODID:-//Unity Of Faith Fellowship International Ministries - ECPv4.4.5//NONSGML v1.0//EN
CALSCALE:GREGORIAN
METHOD:PUBLISH
X-WR-CALNAME:Unity Of Faith Fellowship International Ministries
X-ORIGINAL-URL:http://unity-of-faith.org
X-WR-CALDESC:Events for Unity Of Faith Fellowship International Ministries
BEGIN:VEVENT
DTSTART;TZID=America/New_York:20190316T100000
DTEND;TZID=America/New_York:20190316T130000
DTSTAMP:20260424T131656
CREATED:20190111T151909Z
LAST-MODIFIED:20190111T153133Z
UID:1723-1552730400-1552741200@unity-of-faith.org
SUMMARY:Men's Conference
DESCRIPTION:Hello Believers! Pastor Myron Rock Davis will be ministering at Faith Tabernacle Family Life Center for their Men's Conference. Come on out and hear a great word from the Lord!
URL:http://unity-of-faith.org/event/mens-conference/
LOCATION:3705 Meadowbridge Road\, Richmond \, 23222\, United States
CATEGORIES:Men's Conference
ATTACH;FMTTYPE=image/jpeg:http://unity-of-faith.org/wp-content/uploads/2019/01/Local-4-5.jpg
END:VEVENT
END:VCALENDAR