BEGIN:VCALENDAR
VERSION:2.0
PRODID:-//Unity Of Faith Fellowship International Ministries - ECPv4.4.5//NONSGML v1.0//EN
CALSCALE:GREGORIAN
METHOD:PUBLISH
X-WR-CALNAME:Unity Of Faith Fellowship International Ministries
X-ORIGINAL-URL:http://unity-of-faith.org
X-WR-CALDESC:Events for Unity Of Faith Fellowship International Ministries
BEGIN:VEVENT
DTSTART;TZID=America/New_York:20190115T180000
DTEND;TZID=America/New_York:20190115T200000
DTSTAMP:20260420T193551
CREATED:20181229T210656Z
LAST-MODIFIED:20181229T210656Z
UID:1685-1547575200-1547582400@unity-of-faith.org
SUMMARY:PRAYER MEETING
DESCRIPTION:
URL:http://unity-of-faith.org/event/prayer-meeting-46/
LOCATION: 298 Cedar Fork Rd\, Richmond\, VA\, United States
CATEGORIES:Intercessory Prayer
ATTACH;FMTTYPE=image/jpeg:http://unity-of-faith.org/wp-content/uploads/2016/09/prayer.jpg
END:VEVENT
END:VCALENDAR