BEGIN:VCALENDAR
VERSION:2.0
PRODID:-//Unity Of Faith Fellowship International Ministries - ECPv4.4.5//NONSGML v1.0//EN
CALSCALE:GREGORIAN
METHOD:PUBLISH
X-WR-CALNAME:Unity Of Faith Fellowship International Ministries
X-ORIGINAL-URL:http://unity-of-faith.org
X-WR-CALDESC:Events for Unity Of Faith Fellowship International Ministries
BEGIN:VEVENT
DTSTART;TZID=America/New_York:20190203T083000
DTEND;TZID=America/New_York:20190203T093000
DTSTAMP:20260424T144401
CREATED:20190206T125034Z
LAST-MODIFIED:20190206T125034Z
UID:1735-1549182600-1549186200@unity-of-faith.org
SUMMARY:RISE & SHINE
DESCRIPTION:
URL:http://unity-of-faith.org/event/rise-shine-23/
LOCATION: 298 Cedar Fork Rd\, Richmond\, VA\, United States
CATEGORIES:rise and shine
ATTACH;FMTTYPE=image/jpeg:http://unity-of-faith.org/wp-content/uploads/2016/09/riseandshine.jpg
END:VEVENT
END:VCALENDAR