BEGIN:VCALENDAR
VERSION:2.0
PRODID:-//Unity Of Faith Fellowship International Ministries - ECPv4.4.5//NONSGML v1.0//EN
CALSCALE:GREGORIAN
METHOD:PUBLISH
X-WR-CALNAME:Unity Of Faith Fellowship International Ministries
X-ORIGINAL-URL:http://unity-of-faith.org
X-WR-CALDESC:Events for Unity Of Faith Fellowship International Ministries
BEGIN:VEVENT
DTSTART;TZID=America/New_York:20260221T100000
DTEND;TZID=America/New_York:20260221T120000
DTSTAMP:20260422T133431
CREATED:20260208T161354Z
LAST-MODIFIED:20260208T161354Z
UID:5712-1771668000-1771675200@unity-of-faith.org
SUMMARY:WOMEN'S CONFERENCE
DESCRIPTION:
URL:http://unity-of-faith.org/event/womens-conference/
CATEGORIES:Women's Fellowship
ATTACH;FMTTYPE=image/png:http://unity-of-faith.org/wp-content/uploads/2026/02/Womens-Fellowship.png
END:VEVENT
END:VCALENDAR