BEGIN:VCALENDAR
VERSION:2.0
PRODID:-//Unity Of Faith Fellowship International Ministries - ECPv4.4.5//NONSGML v1.0//EN
CALSCALE:GREGORIAN
METHOD:PUBLISH
X-WR-CALNAME:Unity Of Faith Fellowship International Ministries
X-ORIGINAL-URL:https://unity-of-faith.org
X-WR-CALDESC:Events for Unity Of Faith Fellowship International Ministries
BEGIN:VEVENT
DTSTART;TZID=America/New_York:20180304T000000
DTEND;TZID=America/New_York:20180311T233000
DTSTAMP:20260420T135503
CREATED:20180228T215424Z
LAST-MODIFIED:20180228T223128Z
UID:1052-1520121600-1520811000@unity-of-faith.org
SUMMARY:2018 FASTING & PRAYING
DESCRIPTION:Starting Monday\, March 4\, 2018 seven days of consistent prayer and fasting.\n\n2018 Fasting Instructions\n\nStart prayer with thanksgiving to God\, our Father\, for His Son Jesus\, whose name is named above every name. Thank Him for the precious blood of Jesus. Thank God for the forgiveness of sins. Thank Him for the blood-bought right to pray in the understanding\, to pray in other tongues\, and to get answers to all of our prayers!\n\n \tPray in the spirit as the Holy Spirit gives you the utterance for at least 30-35 minutes.\n \tAsk the Holy Spirit to help us as we pray regarding every weakness and every infirmity.\n \tCommand God’s angels to get involved in our prayers of faith as they hearken to the voice of the righteous\, the heirs of salvation.\n \tMake the confessions below as we declare God’s great grace over every area of Unity of Faith Fellowship International (UFFI) and all of our Unity of Faith Fellowship ministries.\n\nUnity of faith fellowship International Church\n\nPrayer Confessions for the 2018 Fast\n\nAbba Father\, who art in heaven\, hallowed be thy name. Your kingdom has come on the inside of us\, that Your will be done on earth as it is in heaven. You have given us this day\, and You are our daily bread. You load us up with the benefits of heaven\, each day.\n\nWe cover every prayer leader\, every hour of prayer\, and every person that participates in prayer and fasting on this UFFI/UCOC/UFFH Campus with the powerful blood of Jesus.\n\nWe declare God’s wisdom over our church leaders and directors\, and for every elected and appointed official\, including our nation’s president\, vice president\, the governors of every state\, and the mayors of every city.\n\nWe make disciples in the marketplace\, and our businesses support the ministering of the Gospel of Grace all over this world.\n\nWe decree\, declare\, and agree that all UFFI members\, all partners\, and all supporters in every location are holy in all manner of conduct\, and their lives lines up with the Word of God.\n\nAccording to Second Peter 1:3\, God has given us all things that pertain to life and godliness.\n\nGod\, we decree\, declare\, and agree that we trust only in You! You are our source\, refuge\, and fortress. Keep us strengthened in Your power\, ability\, and might as we continue to uphold the integrity of Your Word. No weapon of any kind\, from anyone\, anywhere\, at any time\, will prosper against our lives. Thank you\, Father\, for Your armies that have special charge over us to accompany\, defend\, and preserve us in all of our ways.\n\nHeavenly Father\, we thank You for our pastors\, Rock and Melody Davis. We pray a strong hedge of protection over their lives and all that concerns them. We submit to\, support\, and obey our spiritual leaders\, and recognize their love and authority for well-being in Christ Jesus. We have Your power to condemn every tongue that rises up against us!\n\nWe acknowledge the good in us! We acknowledge that Your grace is sufficient for every area of our lives. Your grace even causes us to prosper in the midst of our mistakes!\n\nEvery bill is paid at each of our church locations. We have more than enough in epic proportions!\n\nUFFI\, UCOC\, and UFFH ministries have the necessary resources to creatively teach the Word of God to our children and teenagers. They will be inspired to proclaim that Jesus Christ is the ultimate leader of this generation\, and they will operate in the power of the supernatural as they make marks in the lives of their peers that cannot and will not be erased.\n\nFather\, by your Spirit\, we call the lost from the north\, south\, east\, and west into this church. Every service is filled and overflowing. We decree that signs\, wonders\, and miracles confirm your Word preached\, and lead multitudes to accept Jesus as their Lord and Savior. Draw the lost and send laborers to fill Your house.\n\nFor thine is the kingdom\, and the power\, and the glory forever; therefore\, ours is the kingdom\, and the power\, and the glory—forever and ever\, and ever. In Jesus’ name we pray. Amen!\nWHAT TO EAT\n\nVegetables: Spinach\, Kale\, Collard Greens\, Broccoli\, Cauliflower\, Onion\, Peppers\, Asparagus\, Artichokes\, Carrots\, Cucumbers\, Celery\, Cabbage\, Tomatoes\n\nFruit: Apples\, Blueberries\, Strawberries\, Blackberries\, Raspberries\, Grapefruit\, Oranges\, Peaches\, Plums\, Grapes\, Bananas\n\nMeat: Beef\, Buffalo\, Chicken\, Turkey\, Pork\, Fish\, Eggs\, Other Game (Venison\, Rabbit\, Duck\, etc.) Organic meats only.\n\nNuts and other healthy fat sources: Almonds\, Walnuts\, Pecans\, Cashews\, Macadamia Nuts\, Brazil Nuts\, Pumpkin Seeds\, Extra Virgin Olive Oil\, Coconut Oil\, Avocado\n\nDrinks: Water\, Coffee\, Tea (black\, green\, or herb)\, Almond Milk (for coffee flavor)\, Coconut Milk (for coffee flavor)\n\nWHAT NOT TO EAT\n\nGrains: Bread\, Pasta\, Rice\, Cereal\, Quinoa\, Oatmeal\, Bagels\n\nLegumes: Black Beans\, Chickpeas\, Pinto Beans\, Kidney Beans\, Nuts (and peanut butter)\, Hummus\, Black-Eyed Peas\, Soybeans\, Tofu\n\nPotatoes: Sweet Potatoes\, Red Potatoes\, Yellow Potatoes\, Baked Potatoes\, Mashed Potatoes\, French Fries\, Potato Chips\n\nDairy: Milk\, Cheese\, Butter\, Yogurt\n\nJunk Food: Pizza\, Frozen Dinners\, Anything from a fast food place\, Cookies\, Candy\, Cakes\, Muffins\n\nDrinks: Soda\, Diet Soda\, Juice\, Sports Drinks\, Beer\, Wine\, Liquor\, Soy Milk\, Rice Milk\n\n \tUSE ORGANIC MEATS ONLY\n \tPORTIONS SHOULD BE NO LARGER THAN YOUR HAND\n\n*If you have any known health problems\, please consult with your doctor\, first\, before going on the fast.\n\n \n\n \n
URL:https://unity-of-faith.org/event/2018-fasting-praying/
CATEGORIES:prayers
END:VEVENT
END:VCALENDAR