BEGIN:VCALENDAR
VERSION:2.0
PRODID:-//Unity Of Faith Fellowship International Ministries - ECPv4.4.5//NONSGML v1.0//EN
CALSCALE:GREGORIAN
METHOD:PUBLISH
X-WR-CALNAME:Unity Of Faith Fellowship International Ministries
X-ORIGINAL-URL:https://unity-of-faith.org
X-WR-CALDESC:Events for Unity Of Faith Fellowship International Ministries
BEGIN:VEVENT
DTSTART;TZID=America/New_York:20180318T100000
DTEND;TZID=America/New_York:20180318T123000
DTSTAMP:20260420T165308
CREATED:20180227T235128Z
LAST-MODIFIED:20180227T235128Z
UID:1043-1521367200-1521376200@unity-of-faith.org
SUMMARY:Church Service
DESCRIPTION:
URL:https://unity-of-faith.org/event/church-service-10/
LOCATION: 5621 Corrugated Rd\, Sandston\, VA\, 23150\, United States
CATEGORIES:chruch service
ATTACH;FMTTYPE=image/jpeg:https://unity-of-faith.org/wp-content/uploads/2018/02/cs.jpg
END:VEVENT
END:VCALENDAR